BEGIN:VCALENDAR
VERSION:2.0
PRODID:-// - ECPv6.15.20//NONSGML v1.0//EN
CALSCALE:GREGORIAN
METHOD:PUBLISH
X-ORIGINAL-URL:https://steunpuntmantelzorg.be
X-WR-CALDESC:Evenementen voor 
REFRESH-INTERVAL;VALUE=DURATION:PT1H
X-Robots-Tag:noindex
X-PUBLISHED-TTL:PT1H
BEGIN:VTIMEZONE
TZID:Europe/Brussels
BEGIN:DAYLIGHT
TZOFFSETFROM:+0100
TZOFFSETTO:+0200
TZNAME:CEST
DTSTART:20250330T010000
END:DAYLIGHT
BEGIN:STANDARD
TZOFFSETFROM:+0200
TZOFFSETTO:+0100
TZNAME:CET
DTSTART:20251026T010000
END:STANDARD
BEGIN:DAYLIGHT
TZOFFSETFROM:+0100
TZOFFSETTO:+0200
TZNAME:CEST
DTSTART:20260329T010000
END:DAYLIGHT
BEGIN:STANDARD
TZOFFSETFROM:+0200
TZOFFSETTO:+0100
TZNAME:CET
DTSTART:20261025T010000
END:STANDARD
BEGIN:DAYLIGHT
TZOFFSETFROM:+0100
TZOFFSETTO:+0200
TZNAME:CEST
DTSTART:20270328T010000
END:DAYLIGHT
BEGIN:STANDARD
TZOFFSETFROM:+0200
TZOFFSETTO:+0100
TZNAME:CET
DTSTART:20271031T010000
END:STANDARD
END:VTIMEZONE
BEGIN:VEVENT
DTSTART;TZID=Europe/Brussels:20260507T183000
DTEND;TZID=Europe/Brussels:20260507T203000
DTSTAMP:20260421T105200
CREATED:20260119T081525Z
LAST-MODIFIED:20260119T081525Z
UID:42043-1778178600-1778185800@steunpuntmantelzorg.be
SUMMARY:Zorgcafé : Zorgzaam communiceren
DESCRIPTION:Goede communicatie is essentieel\, zeker in de zorg.\nIn deze vorming leren mantelzorgers hoe ze op een respectvolle en verbindende manier kunnen communiceren met hun naasten. We geven praktische tips om moeilijke onderwerpen bespreekbaar te maken en laten zien hoe je met wederzijds begrip en empathie jouw eigen grenzen kunt aangeven. Zo versterken we samen de zorgrelatie en helpen we misverstanden te voorkomen.\nDaarnaast willen we gezellig samen zijn en ervaringen delen\, terwijl we genieten van een stukje taart en koffie. \nOrganisator \n\nIn samenwerking met de mantelzorgverenigingen\nen mantelzorgcoaches van gemeente Dilbeek.\n\n\n\nSpreker : Steunpunt Mantelzorg\n\n\n\nContact inschrijvingen Vooraf inschrijven verplicht.\n\n\n\nWanneer (datum en uur) donderdag 7 mei 2026  van 18u30-20u30\n\n\nLOCATIE\nSite Breugheldal\nItterbeeksebaan 208\n1701 Itterbeek\n\n\n\n\n\n\nMEER INFO & INSCHRIJVEN\nLDC In Kompanie\nldc.inkompanie@dilbeek.be\n02 451 43 70\nhttp://www.dilbeek.be/mantelzorg
URL:https://steunpuntmantelzorg.be/event/zorgcafe-zorgzaam-communiceren/
LOCATION:Site Breugheldal\, Itterbeeksebaan 208\, Itterbeek\, Vlaams Brabant\, 1701\, Belgium
ORGANIZER;CN="LDC IN KOMPANIE":MAILTO:ldc.inkompanie@dilbeek.be
END:VEVENT
END:VCALENDAR